BEGIN:VCALENDAR
VERSION:2.0
PRODID:-//Freie Waldorfschule Melle - ECPv6.15.18//NONSGML v1.0//EN
CALSCALE:GREGORIAN
METHOD:PUBLISH
X-WR-CALNAME:Freie Waldorfschule Melle
X-ORIGINAL-URL:https://waldorfschule-melle.de
X-WR-CALDESC:Veranstaltungen für Freie Waldorfschule Melle
REFRESH-INTERVAL;VALUE=DURATION:PT1H
X-Robots-Tag:noindex
X-PUBLISHED-TTL:PT1H
BEGIN:VTIMEZONE
TZID:Europe/Berlin
BEGIN:DAYLIGHT
TZOFFSETFROM:+0100
TZOFFSETTO:+0200
TZNAME:CEST
DTSTART:20230326T010000
END:DAYLIGHT
BEGIN:STANDARD
TZOFFSETFROM:+0200
TZOFFSETTO:+0100
TZNAME:CET
DTSTART:20231029T010000
END:STANDARD
BEGIN:DAYLIGHT
TZOFFSETFROM:+0100
TZOFFSETTO:+0200
TZNAME:CEST
DTSTART:20240331T010000
END:DAYLIGHT
BEGIN:STANDARD
TZOFFSETFROM:+0200
TZOFFSETTO:+0100
TZNAME:CET
DTSTART:20241027T010000
END:STANDARD
BEGIN:DAYLIGHT
TZOFFSETFROM:+0100
TZOFFSETTO:+0200
TZNAME:CEST
DTSTART:20250330T010000
END:DAYLIGHT
BEGIN:STANDARD
TZOFFSETFROM:+0200
TZOFFSETTO:+0100
TZNAME:CET
DTSTART:20251026T010000
END:STANDARD
END:VTIMEZONE
BEGIN:VEVENT
DTSTART;TZID=Europe/Berlin:20241220T083000
DTEND;TZID=Europe/Berlin:20241220T113000
DTSTAMP:20260423T161937
CREATED:20240620T085004Z
LAST-MODIFIED:20241203T155257Z
UID:4204-1734683400-1734694200@waldorfschule-melle.de
SUMMARY:Feier letzter Schultag mit Christgeburtspiel
DESCRIPTION:
URL:https://waldorfschule-melle.de/event/feier-letzter-schultag-3/
END:VEVENT
BEGIN:VEVENT
DTSTART;TZID=Europe/Berlin:20241220T180000
DTEND;TZID=Europe/Berlin:20241220T193000
DTSTAMP:20260423T161937
CREATED:20241104T170343Z
LAST-MODIFIED:20241114T150531Z
UID:4407-1734717600-1734723000@waldorfschule-melle.de
SUMMARY:Oberuferer Christgeburtspiel
DESCRIPTION:
URL:https://waldorfschule-melle.de/event/oberuferer-christgeburtspiel/
END:VEVENT
END:VCALENDAR