BEGIN:VCALENDAR
VERSION:2.0
PRODID:-//Freie Waldorfschule Melle - ECPv6.15.18//NONSGML v1.0//EN
CALSCALE:GREGORIAN
METHOD:PUBLISH
X-ORIGINAL-URL:https://waldorfschule-melle.de
X-WR-CALDESC:Veranstaltungen für Freie Waldorfschule Melle
REFRESH-INTERVAL;VALUE=DURATION:PT1H
X-Robots-Tag:noindex
X-PUBLISHED-TTL:PT1H
BEGIN:VTIMEZONE
TZID:Europe/Berlin
BEGIN:DAYLIGHT
TZOFFSETFROM:+0100
TZOFFSETTO:+0200
TZNAME:CEST
DTSTART:20220327T010000
END:DAYLIGHT
BEGIN:STANDARD
TZOFFSETFROM:+0200
TZOFFSETTO:+0100
TZNAME:CET
DTSTART:20221030T010000
END:STANDARD
BEGIN:DAYLIGHT
TZOFFSETFROM:+0100
TZOFFSETTO:+0200
TZNAME:CEST
DTSTART:20230326T010000
END:DAYLIGHT
BEGIN:STANDARD
TZOFFSETFROM:+0200
TZOFFSETTO:+0100
TZNAME:CET
DTSTART:20231029T010000
END:STANDARD
BEGIN:DAYLIGHT
TZOFFSETFROM:+0100
TZOFFSETTO:+0200
TZNAME:CEST
DTSTART:20240331T010000
END:DAYLIGHT
BEGIN:STANDARD
TZOFFSETFROM:+0200
TZOFFSETTO:+0100
TZNAME:CET
DTSTART:20241027T010000
END:STANDARD
END:VTIMEZONE
BEGIN:VEVENT
DTSTART;TZID=Europe/Berlin:20230706T080000
DTEND;TZID=Europe/Berlin:20230816T170000
DTSTAMP:20260422T133442
CREATED:20230505T155658Z
LAST-MODIFIED:20230505T155658Z
UID:3611-1688630400-1692205200@waldorfschule-melle.de
SUMMARY:Sommerferien
DESCRIPTION:
URL:https://waldorfschule-melle.de/event/sommerferien/
END:VEVENT
BEGIN:VEVENT
DTSTART;TZID=Europe/Berlin:20230817T080000
DTEND;TZID=Europe/Berlin:20230817T090000
DTSTAMP:20260422T133442
CREATED:20230707T083729Z
LAST-MODIFIED:20230707T083848Z
UID:3657-1692259200-1692262800@waldorfschule-melle.de
SUMMARY:Feier am 1. Schultag
DESCRIPTION:
URL:https://waldorfschule-melle.de/event/feier-am-1-schultag/
END:VEVENT
BEGIN:VEVENT
DTSTART;TZID=Europe/Berlin:20230819T100000
DTEND;TZID=Europe/Berlin:20230819T123000
DTSTAMP:20260422T133442
CREATED:20230507T132933Z
LAST-MODIFIED:20230507T132933Z
UID:3618-1692439200-1692448200@waldorfschule-melle.de
SUMMARY:Einschulung 1. Klasse
DESCRIPTION:
URL:https://waldorfschule-melle.de/event/einschulung-1-klasse/
END:VEVENT
BEGIN:VEVENT
DTSTART;TZID=Europe/Berlin:20230828T190000
DTEND;TZID=Europe/Berlin:20230828T210000
DTSTAMP:20260422T133442
CREATED:20230818T110510Z
LAST-MODIFIED:20230818T110510Z
UID:3735-1693249200-1693256400@waldorfschule-melle.de
SUMMARY:Elternabend 2. Klasse
DESCRIPTION:
URL:https://waldorfschule-melle.de/event/elternabend-2-klasse/
END:VEVENT
BEGIN:VEVENT
DTSTART;TZID=Europe/Berlin:20230829T090000
DTEND;TZID=Europe/Berlin:20230829T110000
DTSTAMP:20260422T133442
CREATED:20230816T074401Z
LAST-MODIFIED:20230818T073433Z
UID:3721-1693299600-1693306800@waldorfschule-melle.de
SUMMARY:Ausflug 4. Klasse Heimatmuseum
DESCRIPTION:
URL:https://waldorfschule-melle.de/event/ausflug-4-klasse-heimatmuseum/
END:VEVENT
BEGIN:VEVENT
DTSTART;TZID=Europe/Berlin:20230831T180000
DTEND;TZID=Europe/Berlin:20230831T203000
DTSTAMP:20260422T133442
CREATED:20230821T085451Z
LAST-MODIFIED:20230821T085600Z
UID:3738-1693504800-1693513800@waldorfschule-melle.de
SUMMARY:Elternabend 9./10. Klasse
DESCRIPTION:
URL:https://waldorfschule-melle.de/event/elternabend-8-9-klasse-2/
END:VEVENT
END:VCALENDAR