BEGIN:VCALENDAR
VERSION:2.0
PRODID:-//Freie Waldorfschule Melle - ECPv6.15.18//NONSGML v1.0//EN
CALSCALE:GREGORIAN
METHOD:PUBLISH
X-WR-CALNAME:Freie Waldorfschule Melle
X-ORIGINAL-URL:https://waldorfschule-melle.de
X-WR-CALDESC:Veranstaltungen für Freie Waldorfschule Melle
REFRESH-INTERVAL;VALUE=DURATION:PT1H
X-Robots-Tag:noindex
X-PUBLISHED-TTL:PT1H
BEGIN:VTIMEZONE
TZID:Europe/Berlin
BEGIN:DAYLIGHT
TZOFFSETFROM:+0100
TZOFFSETTO:+0200
TZNAME:CEST
DTSTART:20230326T010000
END:DAYLIGHT
BEGIN:STANDARD
TZOFFSETFROM:+0200
TZOFFSETTO:+0100
TZNAME:CET
DTSTART:20231029T010000
END:STANDARD
BEGIN:DAYLIGHT
TZOFFSETFROM:+0100
TZOFFSETTO:+0200
TZNAME:CEST
DTSTART:20240331T010000
END:DAYLIGHT
BEGIN:STANDARD
TZOFFSETFROM:+0200
TZOFFSETTO:+0100
TZNAME:CET
DTSTART:20241027T010000
END:STANDARD
BEGIN:DAYLIGHT
TZOFFSETFROM:+0100
TZOFFSETTO:+0200
TZNAME:CEST
DTSTART:20250330T010000
END:DAYLIGHT
BEGIN:STANDARD
TZOFFSETFROM:+0200
TZOFFSETTO:+0100
TZNAME:CET
DTSTART:20251026T010000
END:STANDARD
END:VTIMEZONE
BEGIN:VEVENT
DTSTART;TZID=Europe/Berlin:20241101T080000
DTEND;TZID=Europe/Berlin:20241101T133000
DTSTAMP:20260423T133306
CREATED:20240620T084626Z
LAST-MODIFIED:20240620T084626Z
UID:4198-1730448000-1730467800@waldorfschule-melle.de
SUMMARY:Feiertag
DESCRIPTION:
URL:https://waldorfschule-melle.de/event/feiertag/
END:VEVENT
BEGIN:VEVENT
DTSTART;TZID=Europe/Berlin:20241107T100000
DTEND;TZID=Europe/Berlin:20241107T103000
DTSTAMP:20260423T133306
CREATED:20241025T143747Z
LAST-MODIFIED:20241025T143747Z
UID:4396-1730973600-1730975400@waldorfschule-melle.de
SUMMARY:Pokalübergabe Meller Stadtlauf
DESCRIPTION:
URL:https://waldorfschule-melle.de/event/pokaluebergabe-meller-stadtlauf/
END:VEVENT
BEGIN:VEVENT
DTSTART;TZID=Europe/Berlin:20241108T170000
DTEND;TZID=Europe/Berlin:20241108T183000
DTSTAMP:20260423T133306
CREATED:20240930T152800Z
LAST-MODIFIED:20240930T152800Z
UID:4382-1731085200-1731090600@waldorfschule-melle.de
SUMMARY:Sankt Martin Klasse 1-4
DESCRIPTION:
URL:https://waldorfschule-melle.de/event/sankt-martin-klasse-1-4/
END:VEVENT
BEGIN:VEVENT
DTSTART;TZID=Europe/Berlin:20241108T170000
DTEND;TZID=Europe/Berlin:20241108T183000
DTSTAMP:20260423T133306
CREATED:20241023T153853Z
LAST-MODIFIED:20241023T153853Z
UID:4394-1731085200-1731090600@waldorfschule-melle.de
SUMMARY:Fackellauf 5. Klasse
DESCRIPTION:
URL:https://waldorfschule-melle.de/event/fackellauf-5-klasse/
END:VEVENT
BEGIN:VEVENT
DTSTART;TZID=Europe/Berlin:20241109T100000
DTEND;TZID=Europe/Berlin:20241109T140000
DTSTAMP:20260423T133306
CREATED:20240620T084748Z
LAST-MODIFIED:20240620T084748Z
UID:4200-1731146400-1731160800@waldorfschule-melle.de
SUMMARY:Schulaktionstag
DESCRIPTION:
URL:https://waldorfschule-melle.de/event/schulaktionstag-4/
END:VEVENT
BEGIN:VEVENT
DTSTART;TZID=Europe/Berlin:20241111T180000
DTEND;TZID=Europe/Berlin:20241111T200000
DTSTAMP:20260423T133306
CREATED:20240910T095815Z
LAST-MODIFIED:20240910T095815Z
UID:4349-1731348000-1731355200@waldorfschule-melle.de
SUMMARY:Klimakreis
DESCRIPTION:
URL:https://waldorfschule-melle.de/event/klimakreis-2/
END:VEVENT
BEGIN:VEVENT
DTSTART;TZID=Europe/Berlin:20241112T073000
DTEND;TZID=Europe/Berlin:20241112T133000
DTSTAMP:20260423T133306
CREATED:20241029T095110Z
LAST-MODIFIED:20241029T095119Z
UID:4401-1731396600-1731418200@waldorfschule-melle.de
SUMMARY:Probenbesuch Radiophilharmonie NDR Klassen 4\, 6 und 7
DESCRIPTION:
URL:https://waldorfschule-melle.de/event/probenbesuch-radiophilharmonie-ndr-klassen-4-6-und-7/
END:VEVENT
BEGIN:VEVENT
DTSTART;TZID=Europe/Berlin:20241120T193000
DTEND;TZID=Europe/Berlin:20241120T210000
DTSTAMP:20260423T133306
CREATED:20241010T074717Z
LAST-MODIFIED:20241010T074717Z
UID:4386-1732131000-1732136400@waldorfschule-melle.de
SUMMARY:Lesekreis
DESCRIPTION:
URL:https://waldorfschule-melle.de/event/lesekreis-14/
END:VEVENT
BEGIN:VEVENT
DTSTART;TZID=Europe/Berlin:20241127T153000
DTEND;TZID=Europe/Berlin:20241127T170000
DTSTAMP:20260423T133306
CREATED:20241105T154847Z
LAST-MODIFIED:20241105T154852Z
UID:4411-1732721400-1732726800@waldorfschule-melle.de
SUMMARY:Basarkreis
DESCRIPTION:
URL:https://waldorfschule-melle.de/event/basarkreis-3/
END:VEVENT
BEGIN:VEVENT
DTSTART;TZID=Europe/Berlin:20241128T083000
DTEND;TZID=Europe/Berlin:20241128T093000
DTSTAMP:20260423T133306
CREATED:20240613T150055Z
LAST-MODIFIED:20241115T081259Z
UID:4173-1732782600-1732786200@waldorfschule-melle.de
SUMMARY:interne Monatsfeier
DESCRIPTION:
URL:https://waldorfschule-melle.de/event/interne-monatsfeier-6/
END:VEVENT
BEGIN:VEVENT
DTSTART;TZID=Europe/Berlin:20241128T153000
DTEND;TZID=Europe/Berlin:20241128T170000
DTSTAMP:20260423T133306
CREATED:20241104T111254Z
LAST-MODIFIED:20241104T111301Z
UID:4404-1732807800-1732813200@waldorfschule-melle.de
SUMMARY:Festekreis
DESCRIPTION:
URL:https://waldorfschule-melle.de/event/festekreis/
END:VEVENT
BEGIN:VEVENT
DTSTART;TZID=Europe/Berlin:20241128T190000
DTEND;TZID=Europe/Berlin:20241128T203000
DTSTAMP:20260423T133306
CREATED:20241120T080921Z
LAST-MODIFIED:20241120T080928Z
UID:4418-1732820400-1732825800@waldorfschule-melle.de
SUMMARY:Elternabend 2. Klasse
DESCRIPTION:
URL:https://waldorfschule-melle.de/event/elternabend-2-klasse-5/
END:VEVENT
END:VCALENDAR