BEGIN:VCALENDAR
VERSION:2.0
PRODID:-//Freie Waldorfschule Melle - ECPv6.15.18//NONSGML v1.0//EN
CALSCALE:GREGORIAN
METHOD:PUBLISH
X-WR-CALNAME:Freie Waldorfschule Melle
X-ORIGINAL-URL:https://waldorfschule-melle.de
X-WR-CALDESC:Veranstaltungen für Freie Waldorfschule Melle
REFRESH-INTERVAL;VALUE=DURATION:PT1H
X-Robots-Tag:noindex
X-PUBLISHED-TTL:PT1H
BEGIN:VTIMEZONE
TZID:Europe/Berlin
BEGIN:DAYLIGHT
TZOFFSETFROM:+0100
TZOFFSETTO:+0200
TZNAME:CEST
DTSTART:20230326T010000
END:DAYLIGHT
BEGIN:STANDARD
TZOFFSETFROM:+0200
TZOFFSETTO:+0100
TZNAME:CET
DTSTART:20231029T010000
END:STANDARD
BEGIN:DAYLIGHT
TZOFFSETFROM:+0100
TZOFFSETTO:+0200
TZNAME:CEST
DTSTART:20240331T010000
END:DAYLIGHT
BEGIN:STANDARD
TZOFFSETFROM:+0200
TZOFFSETTO:+0100
TZNAME:CET
DTSTART:20241027T010000
END:STANDARD
BEGIN:DAYLIGHT
TZOFFSETFROM:+0100
TZOFFSETTO:+0200
TZNAME:CEST
DTSTART:20250330T010000
END:DAYLIGHT
BEGIN:STANDARD
TZOFFSETFROM:+0200
TZOFFSETTO:+0100
TZNAME:CET
DTSTART:20251026T010000
END:STANDARD
BEGIN:DAYLIGHT
TZOFFSETFROM:+0100
TZOFFSETTO:+0200
TZNAME:CEST
DTSTART:20260329T010000
END:DAYLIGHT
BEGIN:STANDARD
TZOFFSETFROM:+0200
TZOFFSETTO:+0100
TZNAME:CET
DTSTART:20261025T010000
END:STANDARD
END:VTIMEZONE
BEGIN:VEVENT
DTSTART;TZID=Europe/Berlin:20241223T080000
DTEND;TZID=Europe/Berlin:20250103T133000
DTSTAMP:20260423T173517
CREATED:20240620T085147Z
LAST-MODIFIED:20240620T085147Z
UID:4206-1734940800-1735911000@waldorfschule-melle.de
SUMMARY:Weihnachtsferien
DESCRIPTION:
URL:https://waldorfschule-melle.de/event/weihnachtsferien-2/
END:VEVENT
BEGIN:VEVENT
DTSTART;TZID=Europe/Berlin:20250106T080000
DTEND;TZID=Europe/Berlin:20250106T133000
DTSTAMP:20260423T173517
CREATED:20240620T085227Z
LAST-MODIFIED:20240620T085227Z
UID:4208-1736150400-1736170200@waldorfschule-melle.de
SUMMARY:erster Schultag
DESCRIPTION:
URL:https://waldorfschule-melle.de/event/erster-schultag-2/
END:VEVENT
BEGIN:VEVENT
DTSTART;TZID=Europe/Berlin:20250109T180000
DTEND;TZID=Europe/Berlin:20250109T200000
DTSTAMP:20260423T173517
CREATED:20241205T100046Z
LAST-MODIFIED:20241205T100046Z
UID:4478-1736445600-1736452800@waldorfschule-melle.de
SUMMARY:Elternabend 10./11. Klasse
DESCRIPTION:
URL:https://waldorfschule-melle.de/event/elternabend-10-11-klasse-2/
END:VEVENT
BEGIN:VEVENT
DTSTART;TZID=Europe/Berlin:20250115T190000
DTEND;TZID=Europe/Berlin:20250115T210000
DTSTAMP:20260423T173517
CREATED:20241120T180112Z
LAST-MODIFIED:20241120T180112Z
UID:4422-1736967600-1736974800@waldorfschule-melle.de
SUMMARY:Treffen Elternvertretung
DESCRIPTION:
URL:https://waldorfschule-melle.de/event/treffen-elternvertretung-10/
END:VEVENT
BEGIN:VEVENT
DTSTART;TZID=Europe/Berlin:20250115T193000
DTEND;TZID=Europe/Berlin:20250115T210000
DTSTAMP:20260423T173517
CREATED:20241203T155646Z
LAST-MODIFIED:20241203T155646Z
UID:4464-1736969400-1736974800@waldorfschule-melle.de
SUMMARY:Lesekreis
DESCRIPTION:
URL:https://waldorfschule-melle.de/event/lesekreis-16/
END:VEVENT
BEGIN:VEVENT
DTSTART;TZID=Europe/Berlin:20250116T173000
DTEND;TZID=Europe/Berlin:20250116T190000
DTSTAMP:20260423T173517
CREATED:20241218T162802Z
LAST-MODIFIED:20241218T162811Z
UID:4494-1737048600-1737054000@waldorfschule-melle.de
SUMMARY:Elternabend 4. Klasse
DESCRIPTION:
URL:https://waldorfschule-melle.de/event/elternabend-4-klasse-5/
END:VEVENT
BEGIN:VEVENT
DTSTART;TZID=Europe/Berlin:20250124T090000
DTEND;TZID=Europe/Berlin:20250124T133000
DTSTAMP:20260423T173517
CREATED:20240808T092441Z
LAST-MODIFIED:20240808T092441Z
UID:4300-1737709200-1737725400@waldorfschule-melle.de
SUMMARY:Radiophilharmonie Hannover Klasse 4-7
DESCRIPTION:
URL:https://waldorfschule-melle.de/event/radiophilharmonie-hannover-klasse-4-7/
END:VEVENT
BEGIN:VEVENT
DTSTART;TZID=Europe/Berlin:20250129T080000
DTEND;TZID=Europe/Berlin:20250129T133000
DTSTAMP:20260423T173517
CREATED:20240808T092530Z
LAST-MODIFIED:20240808T092530Z
UID:4302-1738137600-1738157400@waldorfschule-melle.de
SUMMARY:Artist in Residence 5. Klasse
DESCRIPTION:
URL:https://waldorfschule-melle.de/event/artist-in-residence-5-klasse/
END:VEVENT
BEGIN:VEVENT
DTSTART;TZID=Europe/Berlin:20250129T153000
DTEND;TZID=Europe/Berlin:20250129T170000
DTSTAMP:20260423T173517
CREATED:20241210T162014Z
LAST-MODIFIED:20241210T162014Z
UID:4481-1738164600-1738170000@waldorfschule-melle.de
SUMMARY:Treffen Festekreis
DESCRIPTION:
URL:https://waldorfschule-melle.de/event/treffen-festekreis-2/
END:VEVENT
BEGIN:VEVENT
DTSTART;TZID=Europe/Berlin:20250129T160000
DTEND;TZID=Europe/Berlin:20250129T173000
DTSTAMP:20260423T173517
CREATED:20241210T162047Z
LAST-MODIFIED:20241210T162047Z
UID:4483-1738166400-1738171800@waldorfschule-melle.de
SUMMARY:Treffen Basarkreis
DESCRIPTION:
URL:https://waldorfschule-melle.de/event/treffen-basarkreis/
END:VEVENT
BEGIN:VEVENT
DTSTART;TZID=Europe/Berlin:20250130T090000
DTEND;TZID=Europe/Berlin:20250130T100000
DTSTAMP:20260423T173517
CREATED:20240620T085334Z
LAST-MODIFIED:20240620T085334Z
UID:4210-1738227600-1738231200@waldorfschule-melle.de
SUMMARY:interne Monatsfeier
DESCRIPTION:
URL:https://waldorfschule-melle.de/event/interne-monatsfeier-11/
END:VEVENT
BEGIN:VEVENT
DTSTART;TZID=Europe/Berlin:20250130T120000
DTEND;TZID=Europe/Berlin:20250130T180000
DTSTAMP:20260423T173517
CREATED:20240620T085509Z
LAST-MODIFIED:20240620T085509Z
UID:4212-1738238400-1738260000@waldorfschule-melle.de
SUMMARY:Elternsprechtag
DESCRIPTION:
URL:https://waldorfschule-melle.de/event/elternsprechtag-5/
END:VEVENT
BEGIN:VEVENT
DTSTART;TZID=Europe/Berlin:20250131T080000
DTEND;TZID=Europe/Berlin:20250131T160000
DTSTAMP:20260423T173517
CREATED:20240613T145939Z
LAST-MODIFIED:20240613T145939Z
UID:4169-1738310400-1738339200@waldorfschule-melle.de
SUMMARY:Elternsprechtag
DESCRIPTION:
URL:https://waldorfschule-melle.de/event/elternsprechtag-4/
END:VEVENT
END:VCALENDAR