BEGIN:VCALENDAR
VERSION:2.0
PRODID:-//Freie Waldorfschule Melle - ECPv6.15.18//NONSGML v1.0//EN
CALSCALE:GREGORIAN
METHOD:PUBLISH
X-ORIGINAL-URL:https://waldorfschule-melle.de
X-WR-CALDESC:Veranstaltungen für Freie Waldorfschule Melle
REFRESH-INTERVAL;VALUE=DURATION:PT1H
X-Robots-Tag:noindex
X-PUBLISHED-TTL:PT1H
BEGIN:VTIMEZONE
TZID:Europe/Berlin
BEGIN:DAYLIGHT
TZOFFSETFROM:+0100
TZOFFSETTO:+0200
TZNAME:CEST
DTSTART:20240331T010000
END:DAYLIGHT
BEGIN:STANDARD
TZOFFSETFROM:+0200
TZOFFSETTO:+0100
TZNAME:CET
DTSTART:20241027T010000
END:STANDARD
BEGIN:DAYLIGHT
TZOFFSETFROM:+0100
TZOFFSETTO:+0200
TZNAME:CEST
DTSTART:20250330T010000
END:DAYLIGHT
BEGIN:STANDARD
TZOFFSETFROM:+0200
TZOFFSETTO:+0100
TZNAME:CET
DTSTART:20251026T010000
END:STANDARD
BEGIN:DAYLIGHT
TZOFFSETFROM:+0100
TZOFFSETTO:+0200
TZNAME:CEST
DTSTART:20260329T010000
END:DAYLIGHT
BEGIN:STANDARD
TZOFFSETFROM:+0200
TZOFFSETTO:+0100
TZNAME:CET
DTSTART:20261025T010000
END:STANDARD
END:VTIMEZONE
BEGIN:VEVENT
DTSTART;TZID=Europe/Berlin:20250519T080000
DTEND;TZID=Europe/Berlin:20250606T133000
DTSTAMP:20260425T163524
CREATED:20240801T161528Z
LAST-MODIFIED:20240801T161528Z
UID:4274-1747641600-1749216600@waldorfschule-melle.de
SUMMARY:Landwirtschaftspraktikum
DESCRIPTION:
URL:https://waldorfschule-melle.de/event/landwirtschaftspraktikum/
END:VEVENT
BEGIN:VEVENT
DTSTART;TZID=Europe/Berlin:20250603T183000
DTEND;TZID=Europe/Berlin:20250603T210000
DTSTAMP:20260425T163524
CREATED:20250521T132841Z
LAST-MODIFIED:20250521T132841Z
UID:4761-1748975400-1748984400@waldorfschule-melle.de
SUMMARY:Große Runde
DESCRIPTION:
URL:https://waldorfschule-melle.de/event/grosse-runde-6/
END:VEVENT
BEGIN:VEVENT
DTSTART;VALUE=DATE:20250609
DTEND;VALUE=DATE:20250611
DTSTAMP:20260425T163524
CREATED:20250228T085953Z
LAST-MODIFIED:20250521T133000Z
UID:4577-1749427200-1749599999@waldorfschule-melle.de
SUMMARY:Pfingstferien
DESCRIPTION:
URL:https://waldorfschule-melle.de/event/pfingstferien-2/
END:VEVENT
BEGIN:VEVENT
DTSTART;TZID=Europe/Berlin:20250612T143000
DTEND;TZID=Europe/Berlin:20250612T160000
DTSTAMP:20260425T163524
CREATED:20250310T164906Z
LAST-MODIFIED:20250310T164906Z
UID:4596-1749738600-1749744000@waldorfschule-melle.de
SUMMARY:Vorstellung Facharbeiten 11. Klasse intern
DESCRIPTION:
URL:https://waldorfschule-melle.de/event/vorstellung-facharbeiten-11-klasse-intern/
END:VEVENT
BEGIN:VEVENT
DTSTART;TZID=Europe/Berlin:20250614T080000
DTEND;TZID=Europe/Berlin:20250621T133000
DTSTAMP:20260425T163524
CREATED:20250310T165123Z
LAST-MODIFIED:20250310T165123Z
UID:4600-1749888000-1750512600@waldorfschule-melle.de
SUMMARY:Abschlussfahrt 12. Klasse
DESCRIPTION:
URL:https://waldorfschule-melle.de/event/abschlussfahrt-12-klasse-2/
END:VEVENT
BEGIN:VEVENT
DTSTART;TZID=Europe/Berlin:20250614T100000
DTEND;TZID=Europe/Berlin:20250614T120000
DTSTAMP:20260425T163524
CREATED:20250310T165044Z
LAST-MODIFIED:20250310T165044Z
UID:4598-1749895200-1749902400@waldorfschule-melle.de
SUMMARY:Vorstellung Facharbeiten 11. Klasse öffentlich
DESCRIPTION:
URL:https://waldorfschule-melle.de/event/vorstellung-facharbeiten-11-klasse-oeffentlich/
END:VEVENT
BEGIN:VEVENT
DTSTART;TZID=Europe/Berlin:20250618T190000
DTEND;TZID=Europe/Berlin:20250618T210000
DTSTAMP:20260425T163524
CREATED:20241120T180642Z
LAST-MODIFIED:20241120T180642Z
UID:4432-1750273200-1750280400@waldorfschule-melle.de
SUMMARY:Treffen Elternvertretung
DESCRIPTION:
URL:https://waldorfschule-melle.de/event/treffen-elternvertretung-15/
END:VEVENT
BEGIN:VEVENT
DTSTART;TZID=Europe/Berlin:20250624T170000
DTEND;TZID=Europe/Berlin:20250624T183000
DTSTAMP:20260425T163524
CREATED:20240620T090018Z
LAST-MODIFIED:20240620T090018Z
UID:4224-1750784400-1750789800@waldorfschule-melle.de
SUMMARY:Johanni
DESCRIPTION:
URL:https://waldorfschule-melle.de/event/johanni/
END:VEVENT
END:VCALENDAR