BEGIN:VCALENDAR
VERSION:2.0
PRODID:-//Freie Waldorfschule Melle - ECPv6.15.18//NONSGML v1.0//EN
CALSCALE:GREGORIAN
METHOD:PUBLISH
X-WR-CALNAME:Freie Waldorfschule Melle
X-ORIGINAL-URL:https://waldorfschule-melle.de
X-WR-CALDESC:Veranstaltungen für Freie Waldorfschule Melle
REFRESH-INTERVAL;VALUE=DURATION:PT1H
X-Robots-Tag:noindex
X-PUBLISHED-TTL:PT1H
BEGIN:VTIMEZONE
TZID:Europe/Berlin
BEGIN:DAYLIGHT
TZOFFSETFROM:+0100
TZOFFSETTO:+0200
TZNAME:CEST
DTSTART:20240331T010000
END:DAYLIGHT
BEGIN:STANDARD
TZOFFSETFROM:+0200
TZOFFSETTO:+0100
TZNAME:CET
DTSTART:20241027T010000
END:STANDARD
BEGIN:DAYLIGHT
TZOFFSETFROM:+0100
TZOFFSETTO:+0200
TZNAME:CEST
DTSTART:20250330T010000
END:DAYLIGHT
BEGIN:STANDARD
TZOFFSETFROM:+0200
TZOFFSETTO:+0100
TZNAME:CET
DTSTART:20251026T010000
END:STANDARD
BEGIN:DAYLIGHT
TZOFFSETFROM:+0100
TZOFFSETTO:+0200
TZNAME:CEST
DTSTART:20260329T010000
END:DAYLIGHT
BEGIN:STANDARD
TZOFFSETFROM:+0200
TZOFFSETTO:+0100
TZNAME:CET
DTSTART:20261025T010000
END:STANDARD
END:VTIMEZONE
BEGIN:VEVENT
DTSTART;TZID=Europe/Berlin:20251108T100000
DTEND;TZID=Europe/Berlin:20251108T140000
DTSTAMP:20260422T154330
CREATED:20240620T090134Z
LAST-MODIFIED:20240620T090134Z
UID:4228-1762596000-1762610400@waldorfschule-melle.de
SUMMARY:Schulaktionstag
DESCRIPTION:
URL:https://waldorfschule-melle.de/event/schulaktionstag-7/
END:VEVENT
BEGIN:VEVENT
DTSTART;TZID=Europe/Berlin:20251110T180000
DTEND;TZID=Europe/Berlin:20251110T190000
DTSTAMP:20260422T154330
CREATED:20250211T075803Z
LAST-MODIFIED:20250211T075803Z
UID:4547-1762797600-1762801200@waldorfschule-melle.de
SUMMARY:Treffen Klimakreis
DESCRIPTION:
URL:https://waldorfschule-melle.de/event/treffen-klimakreis-4/
END:VEVENT
BEGIN:VEVENT
DTSTART;TZID=Europe/Berlin:20251119T190000
DTEND;TZID=Europe/Berlin:20251119T210000
DTSTAMP:20260422T154330
CREATED:20241120T180944Z
LAST-MODIFIED:20241120T180944Z
UID:4440-1763578800-1763586000@waldorfschule-melle.de
SUMMARY:Treffen Elternvertretung
DESCRIPTION:
URL:https://waldorfschule-melle.de/event/treffen-elternvertretung-19/
END:VEVENT
END:VCALENDAR