BEGIN:VCALENDAR
VERSION:2.0
PRODID:-//Freie Waldorfschule Melle - ECPv6.15.18//NONSGML v1.0//EN
CALSCALE:GREGORIAN
METHOD:PUBLISH
X-WR-CALNAME:Freie Waldorfschule Melle
X-ORIGINAL-URL:https://waldorfschule-melle.de
X-WR-CALDESC:Veranstaltungen für Freie Waldorfschule Melle
REFRESH-INTERVAL;VALUE=DURATION:PT1H
X-Robots-Tag:noindex
X-PUBLISHED-TTL:PT1H
BEGIN:VTIMEZONE
TZID:Europe/Berlin
BEGIN:DAYLIGHT
TZOFFSETFROM:+0100
TZOFFSETTO:+0200
TZNAME:CEST
DTSTART:20240331T010000
END:DAYLIGHT
BEGIN:STANDARD
TZOFFSETFROM:+0200
TZOFFSETTO:+0100
TZNAME:CET
DTSTART:20241027T010000
END:STANDARD
BEGIN:DAYLIGHT
TZOFFSETFROM:+0100
TZOFFSETTO:+0200
TZNAME:CEST
DTSTART:20250330T010000
END:DAYLIGHT
BEGIN:STANDARD
TZOFFSETFROM:+0200
TZOFFSETTO:+0100
TZNAME:CET
DTSTART:20251026T010000
END:STANDARD
BEGIN:DAYLIGHT
TZOFFSETFROM:+0100
TZOFFSETTO:+0200
TZNAME:CEST
DTSTART:20260329T010000
END:DAYLIGHT
BEGIN:STANDARD
TZOFFSETFROM:+0200
TZOFFSETTO:+0100
TZNAME:CET
DTSTART:20261025T010000
END:STANDARD
BEGIN:DAYLIGHT
TZOFFSETFROM:+0100
TZOFFSETTO:+0200
TZNAME:CEST
DTSTART:20270328T010000
END:DAYLIGHT
BEGIN:STANDARD
TZOFFSETFROM:+0200
TZOFFSETTO:+0100
TZNAME:CET
DTSTART:20271031T010000
END:STANDARD
END:VTIMEZONE
BEGIN:VEVENT
DTSTART;TZID=Europe/Berlin:20251202T183000
DTEND;TZID=Europe/Berlin:20251202T210000
DTSTAMP:20260422T141910
CREATED:20241125T121214Z
LAST-MODIFIED:20241125T121214Z
UID:4454-1764700200-1764709200@waldorfschule-melle.de
SUMMARY:Große Runde
DESCRIPTION:
URL:https://waldorfschule-melle.de/event/grosse-runde-4/
END:VEVENT
BEGIN:VEVENT
DTSTART;TZID=Europe/Berlin:20251205T143000
DTEND;TZID=Europe/Berlin:20251205T210000
DTSTAMP:20260422T141910
CREATED:20251125T114215Z
LAST-MODIFIED:20251125T114215Z
UID:4869-1764945000-1764968400@waldorfschule-melle.de
SUMMARY:Basarstand - Weihnachtsmarkt Melle
DESCRIPTION:
URL:https://waldorfschule-melle.de/event/basarstand-weihnachtsmarkt-melle/
LOCATION:Markt Melle
ORGANIZER;CN="Freie Waldorfschule Melle":MAILTO:verwaltung@waldorfschule-melle.de
END:VEVENT
BEGIN:VEVENT
DTSTART;TZID=Europe/Berlin:20251206T110000
DTEND;TZID=Europe/Berlin:20251206T210000
DTSTAMP:20260422T141910
CREATED:20251125T114304Z
LAST-MODIFIED:20251125T114304Z
UID:4872-1765018800-1765054800@waldorfschule-melle.de
SUMMARY:Basarstand - Weihnachtsmarkt Melle
DESCRIPTION:
URL:https://waldorfschule-melle.de/event/basarstand-weihnachtsmarkt-melle-2/
ORGANIZER;CN="Freie Waldorfschule Melle":MAILTO:verwaltung@waldorfschule-melle.de
END:VEVENT
BEGIN:VEVENT
DTSTART;TZID=Europe/Berlin:20251210T163000
DTEND;TZID=Europe/Berlin:20251210T173000
DTSTAMP:20260422T141910
CREATED:20251125T113906Z
LAST-MODIFIED:20251125T113906Z
UID:4866-1765384200-1765387800@waldorfschule-melle.de
SUMMARY:Preisverleihung - Westenergie Klimaschutzpreis
DESCRIPTION:
URL:https://waldorfschule-melle.de/event/preisverleihung-westenergie-klimaschutzpreis/
END:VEVENT
BEGIN:VEVENT
DTSTART;TZID=Europe/Berlin:20251217T190000
DTEND;TZID=Europe/Berlin:20251217T210000
DTSTAMP:20260422T141910
CREATED:20241120T181034Z
LAST-MODIFIED:20241120T181034Z
UID:4442-1765998000-1766005200@waldorfschule-melle.de
SUMMARY:Treffen Elternvertretung
DESCRIPTION:
URL:https://waldorfschule-melle.de/event/treffen-elternvertretung-20/
END:VEVENT
BEGIN:VEVENT
DTSTART;TZID=Europe/Berlin:20251219T100000
DTEND;TZID=Europe/Berlin:20251219T113000
DTSTAMP:20260422T141910
CREATED:20251125T114437Z
LAST-MODIFIED:20251125T114437Z
UID:4874-1766138400-1766143800@waldorfschule-melle.de
SUMMARY:Oberuferer Christgeburtspiel
DESCRIPTION:
URL:https://waldorfschule-melle.de/event/oberuferer-christgeburtspiel-2/
LOCATION:Freie Waldorfschule Melle\, Waldstraße 81\, Melle (Eicken-Bruche)\, Niedersachsen\, 49324
ORGANIZER;CN="Freie Waldorfschule Melle":MAILTO:verwaltung@waldorfschule-melle.de
END:VEVENT
BEGIN:VEVENT
DTSTART;TZID=Europe/Berlin:20251219T183000
DTEND;TZID=Europe/Berlin:20251219T200000
DTSTAMP:20260422T141910
CREATED:20251212T082232Z
LAST-MODIFIED:20251212T082232Z
UID:4910-1766169000-1766174400@waldorfschule-melle.de
SUMMARY:Oberuferer Christgeburtspiel - öffentlich
DESCRIPTION:
URL:https://waldorfschule-melle.de/event/oberuferer-christgeburtspiel-oeffentlich/
LOCATION:Freie Waldorfschule Melle\, Waldstraße 81\, Melle (Eicken-Bruche)\, Niedersachsen\, 49324
ORGANIZER;CN="Freie Waldorfschule Melle":MAILTO:verwaltung@waldorfschule-melle.de
END:VEVENT
BEGIN:VEVENT
DTSTART;TZID=Europe/Berlin:20251222T133000
DTEND;TZID=Europe/Berlin:20260105T080000
DTSTAMP:20260422T141910
CREATED:20250228T090307Z
LAST-MODIFIED:20250228T090307Z
UID:4585-1766410200-1767600000@waldorfschule-melle.de
SUMMARY:Weihnachtsferien
DESCRIPTION:
URL:https://waldorfschule-melle.de/event/weihnachtsferien-3/
END:VEVENT
END:VCALENDAR