BEGIN:VCALENDAR
VERSION:2.0
PRODID:-//Freie Waldorfschule Melle - ECPv6.15.18//NONSGML v1.0//EN
CALSCALE:GREGORIAN
METHOD:PUBLISH
X-ORIGINAL-URL:https://waldorfschule-melle.de
X-WR-CALDESC:Veranstaltungen für Freie Waldorfschule Melle
REFRESH-INTERVAL;VALUE=DURATION:PT1H
X-Robots-Tag:noindex
X-PUBLISHED-TTL:PT1H
BEGIN:VTIMEZONE
TZID:Europe/Berlin
BEGIN:DAYLIGHT
TZOFFSETFROM:+0100
TZOFFSETTO:+0200
TZNAME:CEST
DTSTART:20240331T010000
END:DAYLIGHT
BEGIN:STANDARD
TZOFFSETFROM:+0200
TZOFFSETTO:+0100
TZNAME:CET
DTSTART:20241027T010000
END:STANDARD
BEGIN:DAYLIGHT
TZOFFSETFROM:+0100
TZOFFSETTO:+0200
TZNAME:CEST
DTSTART:20250330T010000
END:DAYLIGHT
BEGIN:STANDARD
TZOFFSETFROM:+0200
TZOFFSETTO:+0100
TZNAME:CET
DTSTART:20251026T010000
END:STANDARD
BEGIN:DAYLIGHT
TZOFFSETFROM:+0100
TZOFFSETTO:+0200
TZNAME:CEST
DTSTART:20260329T010000
END:DAYLIGHT
BEGIN:STANDARD
TZOFFSETFROM:+0200
TZOFFSETTO:+0100
TZNAME:CET
DTSTART:20261025T010000
END:STANDARD
BEGIN:DAYLIGHT
TZOFFSETFROM:+0100
TZOFFSETTO:+0200
TZNAME:CEST
DTSTART:20270328T010000
END:DAYLIGHT
BEGIN:STANDARD
TZOFFSETFROM:+0200
TZOFFSETTO:+0100
TZNAME:CET
DTSTART:20271031T010000
END:STANDARD
END:VTIMEZONE
BEGIN:VEVENT
DTSTART;TZID=Europe/Berlin:20251222T133000
DTEND;TZID=Europe/Berlin:20260105T080000
DTSTAMP:20260422T124752
CREATED:20250228T090307Z
LAST-MODIFIED:20250228T090307Z
UID:4585-1766410200-1767600000@waldorfschule-melle.de
SUMMARY:Weihnachtsferien
DESCRIPTION:
URL:https://waldorfschule-melle.de/event/weihnachtsferien-3/
END:VEVENT
BEGIN:VEVENT
DTSTART;TZID=Europe/Berlin:20260121T190000
DTEND;TZID=Europe/Berlin:20260121T203000
DTSTAMP:20260422T124752
CREATED:20260109T103511Z
LAST-MODIFIED:20260109T103511Z
UID:4923-1769022000-1769027400@waldorfschule-melle.de
SUMMARY:Treffen Elternvertretung
DESCRIPTION:
URL:https://waldorfschule-melle.de/event/treffen-elternvertretung-18/
END:VEVENT
END:VCALENDAR